BEGIN:VCALENDAR
VERSION:2.0
PRODID:gvs.georgia.gov
X-WR-TIMEZONE:America/New_York
BEGIN:VTIMEZONE
TZID:America/New_York
X-LIC-LOCATION:America/New_York
END:VTIMEZONE
BEGIN:VEVENT
UID:608c9fe3ec8d1
DTSTART;VALUE=DATE:20190423
SEQUENCE:0
TRANSP:OPAQUE
DTEND;VALUE=DATE:20190425
URL:https://gvs.georgia.gov/events/2019-04-23/executive-leadership-developm
 ent-program
SUMMARY:Executive Leadership Development Program
CLASS:PUBLIC
DESCRIPTION:A second GVRA cohort is participating in this University of Geo
 rgia Carl Vinson Institute Program. It targets individuals interested in p
 ursuing future or higher leadership roles within the organization. The upc
 oming module focuses on interpersonal and organizational communications.
X-MICROSOFT-CDO-ALLDAYEVENT:TRUE
DTSTAMP:20210430T202507Z
END:VEVENT
END:VCALENDAR