BEGIN:VCALENDAR
VERSION:2.0
PRODID:gvs.georgia.gov
X-WR-TIMEZONE:America/New_York
BEGIN:VTIMEZONE
TZID:America/New_York
X-LIC-LOCATION:America/New_York
END:VTIMEZONE
BEGIN:VEVENT
UID:614aa134747c9
DTSTART;VALUE=DATE:20190409
SEQUENCE:0
TRANSP:OPAQUE
DTEND;VALUE=DATE:20190412
URL:https://gvs.georgia.gov/events/2019-04-09/certified-public-manager-prog
 ram
SUMMARY:Certified Public Manager Program 
CLASS:PUBLIC
DESCRIPTION:A new cohort of GVRA Employees are collaborating with the Unive
 rsity of Georgia's Carl Vinson Institute in this nationally recognized and
  accredited management program. Certified Public Manager training is desig
 ned to help improve managers' skills in delivering quality services and im
 proving the lives of our clients.
X-MICROSOFT-CDO-ALLDAYEVENT:TRUE
DTSTAMP:20210921T232124Z
END:VEVENT
END:VCALENDAR