BEGIN:VCALENDAR
VERSION:2.0
PRODID:gvs.georgia.gov
X-WR-TIMEZONE:America/New_York
BEGIN:VTIMEZONE
TZID:America/New_York
X-LIC-LOCATION:America/New_York
END:VTIMEZONE
BEGIN:VEVENT
UID:608c9feaba40a
DTSTART;VALUE=DATE:20190409
SEQUENCE:0
TRANSP:OPAQUE
DTEND;VALUE=DATE:20190411
URL:https://gvs.georgia.gov/events/2019-04-09/new-hire-orientation
SUMMARY:New Hire Orientation
CLASS:PUBLIC
DESCRIPTION:Initial orientation and onboarding for new hires across all eig
 ht administrative offices and all five programs
X-MICROSOFT-CDO-ALLDAYEVENT:TRUE
DTSTAMP:20210430T202514Z
END:VEVENT
END:VCALENDAR