BEGIN:VCALENDAR
VERSION:2.0
PRODID:gvs.georgia.gov
X-WR-TIMEZONE:America/New_York
BEGIN:VTIMEZONE
TZID:America/New_York
X-LIC-LOCATION:America/New_York
END:VTIMEZONE
BEGIN:VEVENT
UID:608c9ff4e0476
DTSTART;VALUE=DATE:20190401
SEQUENCE:0
TRANSP:OPAQUE
DTEND;VALUE=DATE:20190413
URL:https://gvs.georgia.gov/events/2019-04-01/understanding-performance-man
 agement-staff-training
SUMMARY:\"Understanding Performance Management\" - Staff Training
CLASS:PUBLIC
DESCRIPTION:This staff training is required for all managers and supervisor
 s. The goal is to emphasize the importance of performance management\, exp
 lain phases of the performance process\, discuss how to manage low perform
 ers and recognize high performers\, and demonstrate how to use the ePerfor
 mance module to document each area.\n\nIndividuals are asked to attend the
  course offering in their areas and will receive save-the-dates with locat
 ion\, date and time.
X-MICROSOFT-CDO-ALLDAYEVENT:TRUE
DTSTAMP:20210430T202524Z
END:VEVENT
END:VCALENDAR