BEGIN:VCALENDAR
VERSION:2.0
PRODID:gvs.georgia.gov
X-WR-TIMEZONE:America/New_York
BEGIN:VTIMEZONE
TZID:America/New_York
X-LIC-LOCATION:America/New_York
END:VTIMEZONE
BEGIN:VEVENT
UID:608c9ff9ec7dd
DTSTART;TZID=UTC:20190227T173000
SEQUENCE:0
TRANSP:OPAQUE
DTEND;TZID=UTC:20190227T180000
URL:https://gvs.georgia.gov/events/2019-02-27/georgia-vocational-rehabilita
 tion-services-gvrs-board-special-telephonic-meeting
SUMMARY:Georgia Vocational Rehabilitation Services (GVRS) Board - Special T
 elephonic Meeting
CLASS:PUBLIC
DESCRIPTION:Members of the Georgia Vocational Rehabilitation Services (GVRS
 ) Board will convene for a special telephonic meeting on Wednesday\, Febru
 ary 27\, 2019\, at 12:30 pm. A room location has been reserved for members
  of the public who wish to attend.\n\nPlease contact Michele Mason (Michel
 e.Mason@gvs.ga.gov) with any questions.
DTSTAMP:20210430T202529Z
END:VEVENT
END:VCALENDAR