BEGIN:VCALENDAR
VERSION:2.0
PRODID:gvs.georgia.gov
X-WR-TIMEZONE:America/New_York
BEGIN:VTIMEZONE
TZID:America/New_York
X-LIC-LOCATION:America/New_York
END:VTIMEZONE
BEGIN:VEVENT
UID:608c9fff418cc
DTSTART;TZID=UTC:20190219T180000
SEQUENCE:0
TRANSP:OPAQUE
DTEND;TZID=UTC:20190219T200000
URL:https://gvs.georgia.gov/events/2019-02-19/employment-first-meeting
SUMMARY:Employment First Meeting
CLASS:PUBLIC
DESCRIPTION:This is a regularly scheduled meeting of the Employment First C
 ouncil.
DTSTAMP:20210430T202535Z
END:VEVENT
END:VCALENDAR