BEGIN:VCALENDAR
VERSION:2.0
PRODID:gvs.georgia.gov
X-WR-TIMEZONE:America/New_York
BEGIN:VTIMEZONE
TZID:America/New_York
X-LIC-LOCATION:America/New_York
END:VTIMEZONE
BEGIN:VEVENT
UID:608ca00475806
DTSTART;TZID=UTC:20190219T140000
SEQUENCE:0
TRANSP:OPAQUE
DTEND;TZID=UTC:20190222T190000
URL:https://gvs.georgia.gov/events/2019-02-19/gvra-new-managers-and-supervi
 sors-training
SUMMARY:GVRA New Managers and Supervisors Training
CLASS:PUBLIC
DTSTAMP:20210430T202540Z
END:VEVENT
END:VCALENDAR