BEGIN:VCALENDAR
VERSION:2.0
PRODID:gvs.georgia.gov
X-WR-TIMEZONE:America/New_York
BEGIN:VTIMEZONE
TZID:America/New_York
X-LIC-LOCATION:America/New_York
END:VTIMEZONE
BEGIN:VEVENT
UID:608ca008e96ae
DTSTART;TZID=UTC:20190116T140000
SEQUENCE:0
TRANSP:OPAQUE
DTEND;TZID=UTC:20190117T170000
URL:https://gvs.georgia.gov/events/2019-01-16/state-rehabilitation-council-
 src-january-2019-meeting
SUMMARY:State Rehabilitation Council (SRC) January 2019 Meeting
CLASS:PUBLIC
DTSTAMP:20210430T202544Z
END:VEVENT
END:VCALENDAR