BEGIN:VCALENDAR
VERSION:2.0
PRODID:gvs.georgia.gov
X-WR-TIMEZONE:America/New_York
BEGIN:VTIMEZONE
TZID:America/New_York
X-LIC-LOCATION:America/New_York
END:VTIMEZONE
BEGIN:VEVENT
UID:608ca011872bd
DTSTART;TZID=UTC:20181212T150000
SEQUENCE:0
TRANSP:OPAQUE
DTEND;TZID=UTC:20181212T170000
URL:https://gvs.georgia.gov/events/2018-12-12/metro-atlanta-vr-and-administ
 rative-town-hall
SUMMARY:Metro Atlanta VR and Administrative Town Hall
CLASS:PUBLIC
DESCRIPTION:This will be a town hall for Metro Atlanta VR and Administrativ
 e Office employees to hear from Executive Director Sean T. Casey.
DTSTAMP:20210430T202553Z
END:VEVENT
END:VCALENDAR