BEGIN:VCALENDAR
VERSION:2.0
PRODID:gvs.georgia.gov
X-WR-TIMEZONE:America/New_York
BEGIN:VTIMEZONE
TZID:America/New_York
X-LIC-LOCATION:America/New_York
END:VTIMEZONE
BEGIN:VEVENT
UID:608cab5d9b198
DTSTART;TZID=UTC:20181206T180000
SEQUENCE:0
TRANSP:OPAQUE
DTEND;TZID=UTC:20181206T200000
URL:https://gvs.georgia.gov/events/2018-12-06/das-town-hall
SUMMARY:DAS Town Hall
CLASS:PUBLIC
DESCRIPTION:This will be a town hall for DAS employees to hear from Executi
 ve Director Sean T. Casey.
DTSTAMP:20210430T211405Z
END:VEVENT
END:VCALENDAR