BEGIN:VCALENDAR
PRODID:gvs.georgia.gov
VERSION:2.0
CALSCALE:GREGORIAN
BEGIN:VEVENT
UID:ec8ed200027bc79dad457f94c5f4b14a
DTSTAMP:20260423T005931Z
SUMMARY:GVRS Board Meeting
DESCRIPTION:Join ZoomGov Meeting\n\nhttps://www.zoomgov.com/j/1616971723?pw
 d=CR69o6wkViGNXubYAJ8Ayqxz4Vb64J.1\n\nMeeting ID: 161 697 1723\n\nPasscode
 : 872168\n\n---\n\nOne tap mobile\n\n+16692545252\,\,1616971723# US (San J
 ose)\n\n+16469641167\,\,1616971723# US (US Spanish Line)\n\n---\n\nDial by
  your location\n\n• +1 646 828 7666 US (New York)\n\n• +1 415 449 4000
  US (US Spanish Line)\n\nMeeting ID: 161 697 1723
URL:https://gvs.georgia.gov/events/2026-05-13/gvrs-board-meeting
DTSTART;VALUE=DATE:20260513
DTEND;VALUE=DATE:20260514
LOCATION:2450 S. Milledge Avenue  Athens\, GA 30605 US
X-LIC-LOCATION:America/New_York
X-WR-TIMEZONE:America/New_York
END:VEVENT
BEGIN:VTIMEZONE
TZID:America/New_York
END:VTIMEZONE
END:VCALENDAR
