BEGIN:VCALENDAR
VERSION:2.0
PRODID:gvs.georgia.gov
X-WR-TIMEZONE:America/New_York
BEGIN:VTIMEZONE
TZID:America/New_York
X-LIC-LOCATION:America/New_York
END:VTIMEZONE
BEGIN:VEVENT
UID:608649f2b9cca
DTSTART;TZID=UTC:20211110T180000
SEQUENCE:0
TRANSP:OPAQUE
DTEND;TZID=UTC:20211110T193000
URL:https://gvs.georgia.gov/events/2021-11-10/gvrs-meeting-nov-2021
SUMMARY:GVRS Board Meeting November 2021
CLASS:PUBLIC
DESCRIPTION: \n\n\n\nIf you would like to make public comment\, please ema
 il harriett.young@gvs.ga.gov. This meeting will be held remotely\, and th
 e meeting link will be made available on this page near the meeting date.
DTSTAMP:20210426T010450Z
END:VEVENT
END:VCALENDAR