BEGIN:VCALENDAR
VERSION:2.0
PRODID:gvs.georgia.gov
X-WR-TIMEZONE:America/New_York
BEGIN:VTIMEZONE
TZID:America/New_York
X-LIC-LOCATION:America/New_York
END:VTIMEZONE
BEGIN:VEVENT
UID:608649ee2948a
DTSTART;TZID=UTC:20210908T170000
SEQUENCE:0
TRANSP:OPAQUE
DTEND;TZID=UTC:20210908T183000
URL:https://gvs.georgia.gov/events/2021-09-08/gvrs-meeting-sept-2021
SUMMARY:GVRS Board Meeting September 2021
CLASS:PUBLIC
DESCRIPTION:If you would like to make public comment\, please email harrie
 tt.young@gvs.ga.gov. This meeting will be held remotely\, and the meeting 
 link will be made available on this page near the meeting date.
DTSTAMP:20210426T010446Z
END:VEVENT
END:VCALENDAR