BEGIN:VCALENDAR
VERSION:2.0
PRODID:gvs.georgia.gov
X-WR-TIMEZONE:America/New_York
BEGIN:VTIMEZONE
TZID:America/New_York
X-LIC-LOCATION:America/New_York
END:VTIMEZONE
BEGIN:VEVENT
UID:608bdc6f2c1b7
DTSTART;TZID=UTC:20200715T140000
SEQUENCE:0
TRANSP:OPAQUE
DTEND;TZID=UTC:20200715T190000
URL:https://gvs.georgia.gov/events/2020-07-15/src-meeting
SUMMARY:State Rehabilitation Council Meeting
CLASS:PUBLIC
DTSTAMP:20210430T063111Z
END:VEVENT
END:VCALENDAR